BEGIN:VCALENDAR
VERSION:2.0
PRODID:-//Helensville Community News - ECPv4.6.25//NONSGML v1.0//EN
CALSCALE:GREGORIAN
METHOD:PUBLISH
X-WR-CALNAME:Helensville Community News
X-ORIGINAL-URL:https://helensvillecommunitynews.co.nz
X-WR-CALDESC:Events for Helensville Community News
BEGIN:VEVENT
DTSTART;TZID=Pacific/Auckland:20240518T100000
DTEND;TZID=Pacific/Auckland:20240518T140000
DTSTAMP:20260426T023023
CREATED:20240408T023043Z
LAST-MODIFIED:20240408T023043Z
UID:11589-1716026400-1716040800@helensvillecommunitynews.co.nz
SUMMARY:Muriwai Beach Clean Up
DESCRIPTION:South Kaipara Clean Ups invite you to come along and join our community beach clean up! Everyone welcome!  Bags and gloves provided  Both 4x4 and walking access available.  Meeting at 10am ON the beach at Wilson road entry to register your name & grab some supplies.  Return your bags to Wilson's cut out for disposable - Kindly collected by SeaCleaners.  Invite all your family and friends- the kids love it too!  Wear sturdy footwear and bright clothing + gloves for the children!  Please keep off the dunes!  Let's make it a great day!  Enjoy the beach.  For up-to-date information see South Kaipara Clean Ups facebook page. \n
URL:https://helensvillecommunitynews.co.nz/event/muriwai-beach-clean-up/
LOCATION:Muriwai Beach\, Wilson Road Cut Out\, Muriwai Beach\, New Zealand
CATEGORIES:Clean Up
END:VEVENT
END:VCALENDAR