BEGIN:VCALENDAR
VERSION:2.0
PRODID:-//Helensville Community News - ECPv4.6.25//NONSGML v1.0//EN
CALSCALE:GREGORIAN
METHOD:PUBLISH
X-WR-CALNAME:Helensville Community News
X-ORIGINAL-URL:https://helensvillecommunitynews.co.nz
X-WR-CALDESC:Events for Helensville Community News
BEGIN:VEVENT
DTSTART;TZID=Pacific/Auckland:20240608T100000
DTEND;TZID=Pacific/Auckland:20240612T150000
DTSTAMP:20260426T005542
CREATED:20240529T225710Z
LAST-MODIFIED:20240529T225710Z
UID:11749-1717840800-1718204400@helensvillecommunitynews.co.nz
SUMMARY:Moving on Garage Sale
DESCRIPTION: \n
URL:https://helensvillecommunitynews.co.nz/event/moving-on-garage-sale/
CATEGORIES:Garage Sale
END:VEVENT
BEGIN:VEVENT
DTSTART;TZID=Pacific/Auckland:20240608T120000
DTEND;TZID=Pacific/Auckland:20240608T160000
DTSTAMP:20260426T005542
CREATED:20240529T222229Z
LAST-MODIFIED:20240529T222229Z
UID:11732-1717848000-1717862400@helensvillecommunitynews.co.nz
SUMMARY:Kaukapakapa Emergency Hub Day
DESCRIPTION:An opportunity to meet your local volunteer network helping our community\, and the Hub we will open during emergencies. Pop in on your way past or come and hang out.  Enter free prize draws\, have a free sausage and hot drink\, learn more about how to prepare for emergencies\, talk to experts. Activities for kids and adults. Come connect with your community \n
URL:https://helensvillecommunitynews.co.nz/event/kaukapakapa-emergency-hub-day/
LOCATION:Kaukapakapa Emergency Hub\, 1065 Kaipara Coast Highway\, Kaukapakapa\, New Zealand
CATEGORIES:Community Event
END:VEVENT
END:VCALENDAR