BEGIN:VCALENDAR
VERSION:2.0
PRODID:-//Helensville Community News - ECPv4.6.25//NONSGML v1.0//EN
CALSCALE:GREGORIAN
METHOD:PUBLISH
X-WR-CALNAME:Helensville Community News
X-ORIGINAL-URL:https://helensvillecommunitynews.co.nz
X-WR-CALDESC:Events for Helensville Community News
BEGIN:VEVENT
DTSTART;TZID=Pacific/Auckland:20240615T130000
DTEND;TZID=Pacific/Auckland:20240615T170000
DTSTAMP:20260426T005828
CREATED:20240529T222041Z
LAST-MODIFIED:20240529T222041Z
UID:11726-1718456400-1718470800@helensvillecommunitynews.co.nz
SUMMARY:Snow in the Park
DESCRIPTION:The most incredible free snot-themed event in all of Auckland! \nJoin us with the whanau at Royal Reserve\, Massey and fill your boots with snow\, ice and wintery goodness!  Thake the legendary tube run\, play in the snow\, enjoy the free activities and check our the yummy food stalls\, plus much more! \n
URL:https://helensvillecommunitynews.co.nz/event/snow-in-the-park/
LOCATION:Royal Reserve\, Beauchamp Drive\, Massey\, New Zealand
CATEGORIES:Community Event,FREE EVENTS
END:VEVENT
END:VCALENDAR