BEGIN:VCALENDAR
VERSION:2.0
PRODID:-//Helensville Community News - ECPv4.6.25//NONSGML v1.0//EN
CALSCALE:GREGORIAN
METHOD:PUBLISH
X-WR-CALNAME:Helensville Community News
X-ORIGINAL-URL:https://helensvillecommunitynews.co.nz
X-WR-CALDESC:Events for Helensville Community News
BEGIN:VEVENT
DTSTART;TZID=Pacific/Auckland:20240616T083000
DTEND;TZID=Pacific/Auckland:20240616T130000
DTSTAMP:20260426T005712
CREATED:20230418T000112Z
LAST-MODIFIED:20240529T221712Z
UID:10679-1718526600-1718542800@helensvillecommunitynews.co.nz
SUMMARY:The Village Market Helensville Showgrounds
DESCRIPTION:New Venue – same great market!  Friendly people\, great atmosphere and a tempting selection of quality stalls with everything from locally hand-made crafts\, plants\, preserves\, fresh fruit & veg to pre-loved treasures and collectibles\, food\, live music from Gillian and Mike\, free hair plaiting and much more... sorry no dogs \n**Please bring a gold coin donation for parking – proceeds go to the scouts jamboree**\nThe Helensville A&P Showgrounds management have a no dogs policy with the exception of assistance dogs as there is stock grazing in the grounds. \nEmail: sarah@riversidecrafts.co.nz Phone: 0274 831542 @kaukapakapavillagemarket. \nEftpos cash out available. \n
URL:https://helensvillecommunitynews.co.nz/event/kaukapakapa-village-market-31/
LOCATION:Helensville A&P Show Grounds\, 63 Railway Street\, Helensville\, 0800\, New Zealand
CATEGORIES:Market
ORGANIZER;CN="Sarah%20Legg":MAILTO:sarah@riversidecrafts.co.nz
END:VEVENT
BEGIN:VEVENT
DTSTART;TZID=Pacific/Auckland:20240616T093000
DTEND;TZID=Pacific/Auckland:20240616T113000
DTSTAMP:20260426T005712
CREATED:20240529T222531Z
LAST-MODIFIED:20240609T212145Z
UID:11737-1718530200-1718537400@helensvillecommunitynews.co.nz
SUMMARY:Fungi Workshop
DESCRIPTION:We’ve all seen Fungi growing either in the garden or when out walking but most of us generally pass by without giving them a second thought. In reality fungi are key players in many aspects of our lives and the environment.  In this 2hr workshop Peter Buchanan from Landcare Research will be giving an introduction to the incredible kingdom of fungi. Learn more about this fascinating subject and how you can harness the power of fungi in the garden or on the farm; including how to start growing your own gourmet mushrooms. Autumn is a fantastic time to see many fungi producing mushrooms\, so come along to this informative workshop followed by a walk around the Sculpture Gardens to see what fungi can be found.\nThese relaxed and interactive events are very popular so booking is definitely recommended as spaces are limited (see below for booking details).\nAfterwards\, you will also be able to continue strolling around the beautiful 1Km sculpture trail which has over 40 marvellous pieces created by local and international artists for our 2023 exhibition on display as well as our recently installed 2.5Km nature trail.\nOur knowledgeable and friendly staff will also be on hand to help with any garden related questions and refreshments can be purchased from our cute little coffee shop.\nTrail is not suitable for wheelchairs or walking frames.\nVenue location: 1481 Kaipara Coast Highway (SH16)\, 4km north of Kaukapakapa.  Tickets: $20 per person.  To Book: info@kaiparacoast.co.nz OR 09 420 5655. \n
URL:https://helensvillecommunitynews.co.nz/event/fungi-workshop/
LOCATION:Kaipara Coast Plant Centre\, 1481 Kaipara Coast Highway\, Kaukapakapa\, New Zealand
CATEGORIES:Workshop
ORGANIZER;CN="Kaipara%20Coast%20Plant%20Centre":MAILTO:info@kaiparacoast.co.nz
END:VEVENT
END:VCALENDAR