BEGIN:VCALENDAR
VERSION:2.0
PRODID:-//Helensville Community News - ECPv4.6.25//NONSGML v1.0//EN
CALSCALE:GREGORIAN
METHOD:PUBLISH
X-WR-CALNAME:Helensville Community News
X-ORIGINAL-URL:https://helensvillecommunitynews.co.nz
X-WR-CALDESC:Events for Helensville Community News
BEGIN:VEVENT
DTSTART;VALUE=DATE:20240622
DTEND;VALUE=DATE:20240623
DTSTAMP:20260426T005758
CREATED:20240529T222816Z
LAST-MODIFIED:20240529T222816Z
UID:11739-1719014400-1719100799@helensvillecommunitynews.co.nz
SUMMARY:Helensville Rugby Club – Club Day
DESCRIPTION:Junior and Senior games playing through the day\, food\, coffee\, raffles and more.  Keep an eye on our facebook page for more updates on the day. \n \n
URL:https://helensvillecommunitynews.co.nz/event/helensville-rugby-club-club-day/
CATEGORIES:Community Event,OPEN DAY
END:VEVENT
BEGIN:VEVENT
DTSTART;TZID=Pacific/Auckland:20240622T140000
DTEND;TZID=Pacific/Auckland:20240622T170000
DTSTAMP:20260426T005758
CREATED:20240529T222953Z
LAST-MODIFIED:20240529T222953Z
UID:11743-1719064800-1719075600@helensvillecommunitynews.co.nz
SUMMARY:Art Centre Helensville AGM
DESCRIPTION:If you wish to join our board\, please fill out form attached and return to manager@artcentrehelensville.org.nz by 8th June\, or drop off to The Art Centre Helensville\, 49 Commercial Road\, Helensville \n
URL:https://helensvillecommunitynews.co.nz/event/art-centre-helensville-agm/
LOCATION:Art Centre Helensville\, 49 Commercial Road\, Helensville\, New Zealand
CATEGORIES:AGM
END:VEVENT
END:VCALENDAR