BEGIN:VCALENDAR
VERSION:2.0
PRODID:-//Helensville Community News - ECPv4.6.25//NONSGML v1.0//EN
CALSCALE:GREGORIAN
METHOD:PUBLISH
X-WR-CALNAME:Helensville Community News
X-ORIGINAL-URL:https://helensvillecommunitynews.co.nz
X-WR-CALDESC:Events for Helensville Community News
BEGIN:VEVENT
DTSTART;TZID=Pacific/Auckland:20240727T093000
DTEND;TZID=Pacific/Auckland:20240727T113000
DTSTAMP:20260425T232136
CREATED:20240701T014443Z
LAST-MODIFIED:20240701T014443Z
UID:11817-1722072600-1722079800@helensvillecommunitynews.co.nz
SUMMARY:Fruit Tree Pruning& Care Workshop
DESCRIPTION:If you want to make the most of your fruit trees or maybe you’re thinking of planting some new ones then this is a good time of year to do this. This very popular annual pruning & care workshop will give you all the basics to assist in your success. \nDavid Bayly\, our in-house tree care expert\, will be once again running this very useful and timely workshop in his relaxed and interactive style. \nTopics to be discussed will include: \n Tools required \n\nPros & cons of various trees\nSite selection and preparation\nPlanting methodologies/techniques\nGeneral tree care\nSafety considerations\n\nThese events are extremely popular (hence the reason for running two) so BOOKING is ESSENTIAL as spaces are limited (see below for booking details). \nAfterwards you will also be able to stroll around the beautiful Sculpture Gardens which has around 40 marvellous pieces created for our 2024 exhibition by local and international artists on display; as well as the extended nature trail (approximately 3.5km in total).* \nWe also have our cute little coffee shop on site\, plus of course the Plant Centre for you to browse through. \nOur knowledgeable and friendly staff will also be on hand to help with any other garden related questions. \n*The gardens and nature trail are unfortunately not suitable for wheelchairs or walking frames. \n
URL:https://helensvillecommunitynews.co.nz/event/fruit-tree-pruning-care-workshop/
LOCATION:Kaipara Coast Plant Centre\, 1481 Kaipara Coast Highway\, Kaukapakapa\, New Zealand
CATEGORIES:Workshop
END:VEVENT
BEGIN:VEVENT
DTSTART;TZID=Pacific/Auckland:20240727T110000
DTEND;TZID=Pacific/Auckland:20240727T120000
DTSTAMP:20260425T232136
CREATED:20240702T220637Z
LAST-MODIFIED:20240702T220637Z
UID:11828-1722078000-1722081600@helensvillecommunitynews.co.nz
SUMMARY:Helensville Railway Station Trust | AGM
DESCRIPTION:All Welcome \n
URL:https://helensvillecommunitynews.co.nz/event/helensville-railway-station-trust-agm/
LOCATION:Helensville Railway Museum\, 2 Rail Way Street\, Helensville\, New Zealand
CATEGORIES:AGM
END:VEVENT
BEGIN:VEVENT
DTSTART;TZID=Pacific/Auckland:20240727T180000
DTEND;TZID=Pacific/Auckland:20240727T210000
DTSTAMP:20260425T232136
CREATED:20240702T220513Z
LAST-MODIFIED:20240702T220513Z
UID:11824-1722103200-1722114000@helensvillecommunitynews.co.nz
SUMMARY:Mid-Winter Christmas Dinner
DESCRIPTION:Everyone loves a little bit of festive cheer. Come along and have a very merry Mid-Winter Christmas at Settlers Country Manor!\nOur venue is a visual delight\, featuring a distinctive ambiance that includes an inviting courtyard and garden area\, along with indoor and outdoor fireplaces. Experience the best of New Zealand cuisine amidst the charm of our historical venue. Here\, we take pride in offering you not just a meal but a memorable culinary journey\, accompanied by warm and attentive service. \nBrighten up your winter blues with our cheerful and warm Mid-Winter Christmas Buffet with festive decorations\, and your favorite winter treats like succulent honey glazed ham\, winter root vegetables\, mouthwatering desserts... and a lot more! \n
URL:https://helensvillecommunitynews.co.nz/event/mid-winter-christmas-dinner/
LOCATION:Settlers Lodge Manor\, 81 Waimauku Station Road\, Waimauku\, Auckland\, New Zealand
CATEGORIES:Mid-Winter Christmas
END:VEVENT
END:VCALENDAR