BEGIN:VCALENDAR
VERSION:2.0
PRODID:-//Helensville Community News - ECPv4.6.25//NONSGML v1.0//EN
CALSCALE:GREGORIAN
METHOD:PUBLISH
X-WR-CALNAME:Helensville Community News
X-ORIGINAL-URL:https://helensvillecommunitynews.co.nz
X-WR-CALDESC:Events for Helensville Community News
BEGIN:VEVENT
DTSTART;TZID=Pacific/Auckland:20240914T123000
DTEND;TZID=Pacific/Auckland:20240914T150000
DTSTAMP:20260425T200421
CREATED:20240825T234047Z
LAST-MODIFIED:20240825T234047Z
UID:11908-1726317000-1726326000@helensvillecommunitynews.co.nz
SUMMARY:Kaipara Marine Rescue Centre Opening
DESCRIPTION:Join us for the official opening of Coastguard Kaipara’s brand-new Marine Rescue Centre! We’re excited to invite you to celebrate this milestone with us.  Event Highlights: \n• Food and Drinks: Enjoy refreshments with both outdoor and indoor seating options. \n• Self-Guided Tours: Explore our state-of-the-art facilities\, including the training room\, kitchen\, bathroom\, locker room\, storage room\, office\, and the area where our rescue boat is parked. \n• See Our Equipment: Get an up-close look at the equipment we carry and learn more about how we’re prepared to respond to emergencies. \n• Local School Tamariki Performances: Enjoy dancing and singing performances by talented local school tamariki. \nThis is a fantastic opportunity to see firsthand what our fit-for-purpose shed is all about! Whether you’re part of the community or simply curious\, we welcome everyone to come and take a look at what we’ve created.  We can’t wait to see you there! \n
URL:https://helensvillecommunitynews.co.nz/event/kaipara-marine-rescue-centre-opening/
CATEGORIES:FREE EVENTS
END:VEVENT
END:VCALENDAR