BEGIN:VCALENDAR
VERSION:2.0
PRODID:-//Helensville Community News - ECPv4.6.25//NONSGML v1.0//EN
CALSCALE:GREGORIAN
METHOD:PUBLISH
X-WR-CALNAME:Helensville Community News
X-ORIGINAL-URL:https://helensvillecommunitynews.co.nz
X-WR-CALDESC:Events for Helensville Community News
BEGIN:VEVENT
DTSTART;TZID=Pacific/Auckland:20240920T080000
DTEND;TZID=Pacific/Auckland:20240922T170000
DTSTAMP:20260425T200346
CREATED:20240408T023136Z
LAST-MODIFIED:20240825T234227Z
UID:11593-1726819200-1727024400@helensvillecommunitynews.co.nz
SUMMARY:Helensville District High School/Kaipara College Centenary Celebrations
DESCRIPTION:This year marks the 100-year anniversary of Kaipara College and Helensville District High School. We will celebrate our 100 year journey that began with a handful of students at makeshift desks in the Star Theatre. The celebrations will concentrate on a Centenary Event that runs over two days in September (Friday 20 to Saturday 21). We invite all alumni\, whānau\, and friends of the school to celebrate with us at a warm and welcoming event for all generations – one that creates spaces for past students to reconnect and reminisce and for current students to engage with our history and meet our alumni. We will be hosting a variety of events\, to find out more about this special occasion please visit the webpages to learn more. You are also welcome to contact the team at the school to find out more 09 420 8640 - ext 800 or email: info@kaipara.school.nz \n
URL:https://helensvillecommunitynews.co.nz/event/helensville-district-high-school-kaipara-college-centenary-celebrations/
LOCATION:Kaipara College\, 36 Ruatawhiri Road\, Helensville\, 0874\, New Zealand
CATEGORIES:Reunion
END:VEVENT
END:VCALENDAR