BEGIN:VCALENDAR
VERSION:2.0
PRODID:-//Helensville Community News - ECPv4.6.25//NONSGML v1.0//EN
CALSCALE:GREGORIAN
METHOD:PUBLISH
X-WR-CALNAME:Helensville Community News
X-ORIGINAL-URL:https://helensvillecommunitynews.co.nz
X-WR-CALDESC:Events for Helensville Community News
BEGIN:VEVENT
DTSTART;TZID=Pacific/Auckland:20241005T100000
DTEND;TZID=Pacific/Auckland:20241005T140000
DTSTAMP:20260425T183104
CREATED:20240825T235233Z
LAST-MODIFIED:20240825T235233Z
UID:11918-1728122400-1728136800@helensvillecommunitynews.co.nz
SUMMARY:Helensville Fire Station Open Day
DESCRIPTION:Always drive past Helensville Fire Station and wonder what’s inside!  Always wondered when that siren goes off\, what some of our dedicated local volunteers do OR Even just wanted to look inside a fire truck and have never had the opportunity! \nWell now’s your chance. On Saturday 5 October 2024 we’re opening our doors to you. \nYou can come in and talk to our local volunteer firefighters about what we do and what it takes! \nYou can look through our fire trucks and our fire station. We will be providing fire safety advice to any questions you may have. We can even sign you up if you are interested in joining our ranks. \nFlint and Amber our superhero firefighters will be making a special appearance for all the kids! They will have give a ways and always happy for a photo! \nWe will have our Escape Maze to show you just how low you have to get down to escape a house fire and many more activities. \nWe will be putting on a car cutting demonstration to show you what we do if you need our help in a car accident. \nIt promises to be a special day with more announcements to come!! \nWe would love to see as many of our locals there as possible!! \nSave the date now! \n
URL:https://helensvillecommunitynews.co.nz/event/helensville-fire-station-open-day/
LOCATION:Helensville Fire Station\, 9 Rata Street\, Helensville\, 0800\, New Zealand
CATEGORIES:OPEN DAY
END:VEVENT
END:VCALENDAR