BEGIN:VCALENDAR
VERSION:2.0
PRODID:-//Helensville Community News - ECPv4.6.25//NONSGML v1.0//EN
CALSCALE:GREGORIAN
METHOD:PUBLISH
X-WR-CALNAME:Helensville Community News
X-ORIGINAL-URL:https://helensvillecommunitynews.co.nz
X-WR-CALDESC:Events for Helensville Community News
BEGIN:VEVENT
DTSTART;TZID=Pacific/Auckland:20241018T080000
DTEND;TZID=Pacific/Auckland:20241018T170000
DTSTAMP:20260425T183900
CREATED:20240924T235324Z
LAST-MODIFIED:20240925T003739Z
UID:11986-1729238400-1729270800@helensvillecommunitynews.co.nz
SUMMARY:Helensville Primary School Ag Day
DESCRIPTION:9.30am - 11.00am - Large animal competition on top field \n11.45am - 12.45 - Horse and pone riding on bottom field \n1.30pm - 3.00pm - Young Farmer competition both competitive and give it a go categories on Top field \n3.00pm - 5.00pm - Classrooms open for Science and Inquiry exhibitions - Hall open to view crafts - Cake stall and sausage sizzle - outside hall. \n
URL:https://helensvillecommunitynews.co.nz/event/helensville-primary-school-ag-day-3/
LOCATION:Helensville Primary School\, 29 Rata Street\, Helensville\, New Zealand
CATEGORIES:Ag Day
END:VEVENT
END:VCALENDAR