BEGIN:VCALENDAR
VERSION:2.0
PRODID:-//Helensville Community News - ECPv4.6.25//NONSGML v1.0//EN
CALSCALE:GREGORIAN
METHOD:PUBLISH
X-WR-CALNAME:Helensville Community News
X-ORIGINAL-URL:https://helensvillecommunitynews.co.nz
X-WR-CALDESC:Events for Helensville Community News
BEGIN:VEVENT
DTSTART;TZID=Pacific/Auckland:20241110T150000
DTEND;TZID=Pacific/Auckland:20241110T163000
DTSTAMP:20260425T171723
CREATED:20241101T015930Z
LAST-MODIFIED:20241101T015930Z
UID:12123-1731250800-1731256200@helensvillecommunitynews.co.nz
SUMMARY:Social Nexus Parenting Neurospicy Support Group
DESCRIPTION:We are a peer group of parents supporting fellow parents in our local community who are parenting with some additional hurdles.  Things like neurodiversity and rainbow issues can be difficult to navigate at the best of times\, parenting in this climate with these added extras can feel isolating and impossible for many.  But you are not alone\, there are many of us struggling with these kinds of issues in our parenting journey and coming together to share our struggles can be hugely helpful.  We have a bunch of resources and reference material on these issues and as adults\, identify with rainbow neurospicy spaces ourselves.  If you are a parent in the Rodney district looking for your tribe\, come lone and say hi.  All welcome. \n
URL:https://helensvillecommunitynews.co.nz/event/social-nexus-parenting-neurospicy-support-group/
LOCATION:Social Nexus HQ\, 3 Pengelly Place\, Kaipatiki (Parakai)\, Auckland\, 0800\, New Zealand
CATEGORIES:Support Group
END:VEVENT
END:VCALENDAR