BEGIN:VCALENDAR
VERSION:2.0
PRODID:-//Helensville Community News - ECPv4.6.25//NONSGML v1.0//EN
CALSCALE:GREGORIAN
METHOD:PUBLISH
X-WR-CALNAME:Helensville Community News
X-ORIGINAL-URL:https://helensvillecommunitynews.co.nz
X-WR-CALDESC:Events for Helensville Community News
BEGIN:VEVENT
DTSTART;TZID=Pacific/Auckland:20241123T100000
DTEND;TZID=Pacific/Auckland:20241123T150000
DTSTAMP:20260425T171326
CREATED:20240924T232621Z
LAST-MODIFIED:20240924T233529Z
UID:11981-1732356000-1732374000@helensvillecommunitynews.co.nz
SUMMARY:Big Little Local
DESCRIPTION:The Big Little Local is dedicated to celebrating our vibrant community and connecting residents with local service providers and businesses.  This family friendly event with light foods\, music\, raffles\, silent auctions\, door prizes and lots of community connection.  Business stalls will have a range of information stands\, activities and products available to purchase on the day.  All proceeds fundraising from the Big Little Local will be donated to the Harcourts Foundation\, who support our local charities and groups through Community Grants. \n  \n
URL:https://helensvillecommunitynews.co.nz/event/big-little-local-3/
LOCATION:Ruatawhiri Park\, Ruatawhiri Road\, Helensville
CATEGORIES:Community Event
ORGANIZER;CN="Harcourts%20Helensville":MAILTO:helensville@harcourts.co.nz
END:VEVENT
END:VCALENDAR