BEGIN:VCALENDAR
VERSION:2.0
PRODID:-//Helensville Community News - ECPv4.6.25//NONSGML v1.0//EN
CALSCALE:GREGORIAN
METHOD:PUBLISH
X-WR-CALNAME:Helensville Community News
X-ORIGINAL-URL:https://helensvillecommunitynews.co.nz
X-WR-CALDESC:Events for Helensville Community News
BEGIN:VEVENT
DTSTART;TZID=Pacific/Auckland:20250222T090000
DTEND;TZID=Pacific/Auckland:20250222T170000
DTSTAMP:20260425T123413
CREATED:20250120T000404Z
LAST-MODIFIED:20250120T000532Z
UID:12218-1740214800-1740243600@helensvillecommunitynews.co.nz
SUMMARY:121st Helensville A&P Show
DESCRIPTION:Come along to the 121st Helensville A&P Show for a great family day out\, complete with farm and competition animals. This year is all about Dairy so you can see a cow and a sheep being milked\, have a go at making butter\, taste some beautiful dairy products or just pat a pet calf. Elsewhere you can watch the shearer and feel the soft\, warm wool\, straight off the sheep's back\, then admire the spinners and knitters who take the sheep's fleeces and create clothing. If you're a dog lover you can see the clever sheep dogs in action or cover your ears when they have a bark-up (to see who is the loudest Huntaway!). Bring your family pet dog and enter in the Vets North Pet Dog Show or Terrier Race (the Terrier Race is only open to Fox Terriers or Jack Russells). Blacksmiths will be trimming horses' feet and crafting things out of metal. You can follow the Junior Farmer competition over at the Universal Cranes community stage. \n
URL:https://helensvillecommunitynews.co.nz/event/121st-helensville-ap-show/
LOCATION:Helensville A&P Show Grounds\, 63 Railway Street\, Helensville\, 0800\, New Zealand
CATEGORIES:Community Event,Event,Market,Music
END:VEVENT
END:VCALENDAR