BEGIN:VCALENDAR
VERSION:2.0
PRODID:-//Helensville Community News - ECPv4.6.25//NONSGML v1.0//EN
CALSCALE:GREGORIAN
METHOD:PUBLISH
X-WR-CALNAME:Helensville Community News
X-ORIGINAL-URL:https://helensvillecommunitynews.co.nz
X-WR-CALDESC:Events for Helensville Community News
BEGIN:VEVENT
DTSTART;TZID=Pacific/Auckland:20250316T083000
DTEND;TZID=Pacific/Auckland:20250316T130000
DTSTAMP:20260425T111654
CREATED:20250224T023448Z
LAST-MODIFIED:20250224T023448Z
UID:12235-1742113800-1742130000@helensvillecommunitynews.co.nz
SUMMARY:The Village Market
DESCRIPTION:A monthly event that takes place on the third Sunday of every month (except for February) at the Helensville A&P Showgrounds. A lively and friendly market that offers a variety of stalls\, live music\, free face painting or hair plaiting for the kids\, and delicious food and coffee. You can find fresh local produce and plants\, artisan food and preserves\, handmade crafts\, gifts\, collectibles\, pre-loved items and more. If you are looking for a fun and relaxing way to spend your Sunday morning\, you might want to check out this Village Market.  No dogs please with the exception of assistance dogs.  Gold coin donation for parking – proceeds to the Helensville/Kaukapakapa scouts and St John youth.\nFor more information contact sarah@riversidecrafts.co.nz. \n
URL:https://helensvillecommunitynews.co.nz/event/the-village-market-2/
LOCATION:Helensville A&P Show Grounds\, 63 Railway Street\, Helensville\, 0800\, New Zealand
CATEGORIES:Market
ORGANIZER;CN="Sarah%20Legg":MAILTO:sarah@riversidecrafts.co.nz
END:VEVENT
BEGIN:VEVENT
DTSTART;TZID=Pacific/Auckland:20250316T150000
DTEND;TZID=Pacific/Auckland:20250316T190000
DTSTAMP:20260425T111654
CREATED:20250224T023603Z
LAST-MODIFIED:20250224T023603Z
UID:12237-1742137200-1742151600@helensvillecommunitynews.co.nz
SUMMARY:St Patrick’s Day! The U2 Tribute Show
DESCRIPTION:ZOO.2 is a premier U2 Tribute Band based in New Zealand\, dedicated to capturing the iconic energy\, and sound of the legendary Irish rock band.  The show takes you on an explorative journey celebrating the greatest hits and timeless anthems of U2. The setlist spans decades\, including classics like " _With or Without You_ \," " _Sunday Bloody Sunday_ \," and " _One_ "\, as well as classic takes for the diehard fans.  ZOO.2 replicates the magic of U2’s live performances with precision and heart. From Bono's passionate vocals and captivating stage presence to The Edge's signature guitar riffs and tones\, Adam Clayton's driving bass and style\, and Larry Mullen Jr.'s unique drumming style.  ZOO.2 delivers a dynamic and authentic tribute that resonates with audiences of all ages. For fans longing to relive the magic of U2 or discover it for the first time\, ZOO.2 is the ultimate experience. \n
URL:https://helensvillecommunitynews.co.nz/event/st-patricks-day-the-u2-tribute-show/
LOCATION:The Original Kaipara Tavern\, 26 Commercial Road\, Helensville\, 0800\, New Zealand
CATEGORIES:Music
END:VEVENT
END:VCALENDAR