BEGIN:VCALENDAR
VERSION:2.0
PRODID:-//Helensville Community News - ECPv4.6.25//NONSGML v1.0//EN
CALSCALE:GREGORIAN
METHOD:PUBLISH
X-WR-CALNAME:Helensville Community News
X-ORIGINAL-URL:https://helensvillecommunitynews.co.nz
X-WR-CALDESC:Events for Helensville Community News
BEGIN:VEVENT
DTSTART;TZID=Pacific/Auckland:20250322T190000
DTEND;TZID=Pacific/Auckland:20250322T220000
DTSTAMP:20260425T111956
CREATED:20250224T023805Z
LAST-MODIFIED:20250224T023805Z
UID:12239-1742670000-1742680800@helensvillecommunitynews.co.nz
SUMMARY:Running Stitch\, These Former Things and Superturtle
DESCRIPTION:A Night of Original NZ Talent\nGet ready for an unforgettable evening of live music at The Kaipara Tavern in Helensville! Experience the raw energy and creativity of three original New Zealand bands\, each bringing their unique sound to the stage. \n
URL:https://helensvillecommunitynews.co.nz/event/running-stitch-these-former-things-and-superturtle/
LOCATION:The Original Kaipara Tavern\, 26 Commercial Road\, Helensville\, 0800\, New Zealand
CATEGORIES:Music
END:VEVENT
END:VCALENDAR