BEGIN:VCALENDAR
VERSION:2.0
PRODID:-//Helensville Community News - ECPv4.6.25//NONSGML v1.0//EN
CALSCALE:GREGORIAN
METHOD:PUBLISH
X-WR-CALNAME:Helensville Community News
X-ORIGINAL-URL:https://helensvillecommunitynews.co.nz
X-WR-CALDESC:Events for Helensville Community News
BEGIN:VEVENT
DTSTART;VALUE=DATE:20251025
DTEND;VALUE=DATE:20251028
DTSTAMP:20260424T234423
CREATED:20250902T022602Z
LAST-MODIFIED:20250902T022602Z
UID:12750-1761350400-1761609599@helensvillecommunitynews.co.nz
SUMMARY:Arts in The Ville 2025
DESCRIPTION:10am – 4pm\, Helensville’s ARTS in the VILLE is an annual festival and art trail\, enjoy art  demonstrations\, exhibitions and displays\, food carts\, and fun activities for all ages.\nExperience a variety of art made by a huge range of local artists in different media\, across multiple indoor and outdoor spaces.  Purchase art directly from artists at open studios\, collab groups and pop-ups. There will be a craft market\, an emerging youth artists competition and a paper boat race. The map will be available for download at www.artsintheville.co.nz\, plus printed copies will be at Helensville Arts and participating venues during the festival weekend. Check out the website for more info and follow us @artsintheville.co.nz \n
URL:https://helensvillecommunitynews.co.nz/event/arts-in-the-ville-2025/
LOCATION:Helensville War Memorial Hall\, 49 Commercial Road\, Helensville\, New Zealand
CATEGORIES:Art Show / Exhibition,Community Event,Event,FREE EVENTS,OPEN DAY
END:VEVENT
END:VCALENDAR