BEGIN:VCALENDAR
VERSION:2.0
PRODID:-//Helensville Community News - ECPv4.6.25//NONSGML v1.0//EN
CALSCALE:GREGORIAN
METHOD:PUBLISH
X-WR-CALNAME:Helensville Community News
X-ORIGINAL-URL:https://helensvillecommunitynews.co.nz
X-WR-CALDESC:Events for Helensville Community News
BEGIN:VEVENT
DTSTART;VALUE=DATE:20251123
DTEND;VALUE=DATE:20251124
DTSTAMP:20260424T220307
CREATED:20251103T024258Z
LAST-MODIFIED:20251103T024619Z
UID:12898-1763856000-1763942399@helensvillecommunitynews.co.nz
SUMMARY:2025 20th Anniversary Poker Run
DESCRIPTION:It's that time again!!! This year we are celebrating the 20th Anniversary of this incredible event. Kumeu Fire Brigade\, 8:00am Food Truck opens for breakfast sales\, 9:00am Registrations open 9:45am Rider briefing 10:00am ride starts $$$ Pre-purchase via email/message $40.00 / On the day $50.00 email: kumeufire1486@gmail.com or message us via messenger for payment information. \n
URL:https://helensvillecommunitynews.co.nz/event/2025-20th-anniversary-poker-run/
CATEGORIES:Community Event
END:VEVENT
END:VCALENDAR