BEGIN:VCALENDAR
VERSION:2.0
PRODID:-//Helensville Community News - ECPv4.6.25//NONSGML v1.0//EN
CALSCALE:GREGORIAN
METHOD:PUBLISH
X-WR-CALNAME:Helensville Community News
X-ORIGINAL-URL:https://helensvillecommunitynews.co.nz
X-WR-CALDESC:Events for Helensville Community News
BEGIN:VEVENT
DTSTART;TZID=Pacific/Auckland:20260321T100000
DTEND;TZID=Pacific/Auckland:20260321T130000
DTSTAMP:20260424T161423
CREATED:20260315T223942Z
LAST-MODIFIED:20260315T223942Z
UID:13137-1774087200-1774098000@helensvillecommunitynews.co.nz
SUMMARY:River Valley Baptist Family Gala Day
DESCRIPTION: \n
URL:https://helensvillecommunitynews.co.nz/event/river-valley-baptist-family-gala-day/
LOCATION:Rivervalley Baptist Church\, 1 Fordyce Road\, Parakai\, New Zealand
CATEGORIES:Gala Day
END:VEVENT
END:VCALENDAR