BEGIN:VCALENDAR
VERSION:2.0
PRODID:-//Helensville Community News - ECPv4.6.25//NONSGML v1.0//EN
CALSCALE:GREGORIAN
METHOD:PUBLISH
X-WR-CALNAME:Helensville Community News
X-ORIGINAL-URL:https://helensvillecommunitynews.co.nz
X-WR-CALDESC:Events for Helensville Community News
BEGIN:VEVENT
DTSTART;TZID=Pacific/Auckland:20260322T143000
DTEND;TZID=Pacific/Auckland:20260322T160000
DTSTAMP:20260424T161546
CREATED:20260309T021609Z
LAST-MODIFIED:20260309T021609Z
UID:13130-1774189800-1774195200@helensvillecommunitynews.co.nz
SUMMARY:Symphonic Tales
DESCRIPTION:What’s on the programme: \nDvorak:  Othello Overture \nFauré:  Masques et Bergamasques \nTchaikovsky: Romeo and Juliet Fantasy Overture \nTchaikovsky:  Variations on a Rococo Theme (cello soloist: Howard Lu) \n  \nTickets: \nAdult $25\, Senior $20\, Student/Child $10 available from Humanitix.  Door Sales (with EFTPOS) if there are seats still available. \n  \n  \nMore about the programme: \nHoward Lu\, the winner of AYO’s 2025 Soloist Competition\, will perform the elegant and virtuosic Variations on a Rococo Theme (for cello) by Tchaikovsky. \nFauré’s Masques et Bergamasques is a light\, refined work - a perfect contrast to Tchaikovsky’s monumental Romeo and Juliet Fantasy Overture\, one of the most beloved orchestral works in the repertoire. From its haunting opening chorale to the sweeping love theme and explosive climaxes\, the piece brings Shakespeare’s timeless tale of star-crossed lovers to life in thrilling symphonic colour. \nThis ambitious programme\, conducted by Antun Poljanich\, highlights the artistic maturity\, technical accomplishment\, and emotional range of AYO’s young players. Audiences can expect a performance filled with passion\, brilliance\, and unforgettable melodies performed with the energy and commitment that define the next generation of orchestral musicians. \nPlease do share this with your friends and community!  We hope you can attend and that you will enjoy the programme! \n
URL:https://helensvillecommunitynews.co.nz/event/symphonic-tales/
LOCATION:Helensville W\, Huapai\, 0810\, New Zealand
CATEGORIES:Music
ATTACH;FMTTYPE=image/jpeg:https://helensvillecommunitynews.co.nz/wp-content/uploads/2026/03/Poster-Helensville.jpg
END:VEVENT
END:VCALENDAR