BEGIN:VCALENDAR
VERSION:2.0
PRODID:-//Helensville Community News - ECPv4.6.25//NONSGML v1.0//EN
CALSCALE:GREGORIAN
METHOD:PUBLISH
X-WR-CALNAME:Helensville Community News
X-ORIGINAL-URL:https://helensvillecommunitynews.co.nz
X-WR-CALDESC:Events for Helensville Community News
BEGIN:VEVENT
DTSTART;VALUE=DATE:20260412
DTEND;VALUE=DATE:20261018
DTSTAMP:20260424T161337
CREATED:20251103T023650Z
LAST-MODIFIED:20260315T224727Z
UID:12888-1775952000-1792281599@helensvillecommunitynews.co.nz
SUMMARY:Helensville Art Trail (HAT) Returns
DESCRIPTION:Our studios will be open on the second Sunday of every month until May 2026.  We’re excited to welcome you back to explore our creative spaces\, meet local artists\, and enjoy the diverse art on display. All studios offer free entry\, ample parking\, and a warm\, welcoming atmosphere.  There’s also a brand-new studio to discover this season – another reason to come along and see what’s new on the HAT. Looking forward to seeing you soon! \nSee the Facebook page for updates \n  \n
URL:https://helensvillecommunitynews.co.nz/event/helensville-art-trail-hat-returns/
LOCATION:Helensville
CATEGORIES:Art Show / Exhibition,FREE EVENTS
END:VEVENT
END:VCALENDAR